BEGIN:VCALENDAR
VERSION:2.0
PRODID:-//Elternverein VS Pottschach - ECPv6.15.20//NONSGML v1.0//EN
CALSCALE:GREGORIAN
METHOD:PUBLISH
X-ORIGINAL-URL:https://ev-pottschach.at
X-WR-CALDESC:Veranstaltungen für Elternverein VS Pottschach
REFRESH-INTERVAL;VALUE=DURATION:PT1H
X-Robots-Tag:noindex
X-PUBLISHED-TTL:PT1H
BEGIN:VTIMEZONE
TZID:Europe/Berlin
BEGIN:DAYLIGHT
TZOFFSETFROM:+0100
TZOFFSETTO:+0200
TZNAME:CEST
DTSTART:20230326T010000
END:DAYLIGHT
BEGIN:STANDARD
TZOFFSETFROM:+0200
TZOFFSETTO:+0100
TZNAME:CET
DTSTART:20231029T010000
END:STANDARD
BEGIN:DAYLIGHT
TZOFFSETFROM:+0100
TZOFFSETTO:+0200
TZNAME:CEST
DTSTART:20240331T010000
END:DAYLIGHT
BEGIN:STANDARD
TZOFFSETFROM:+0200
TZOFFSETTO:+0100
TZNAME:CET
DTSTART:20241027T010000
END:STANDARD
BEGIN:DAYLIGHT
TZOFFSETFROM:+0100
TZOFFSETTO:+0200
TZNAME:CEST
DTSTART:20250330T010000
END:DAYLIGHT
BEGIN:STANDARD
TZOFFSETFROM:+0200
TZOFFSETTO:+0100
TZNAME:CET
DTSTART:20251026T010000
END:STANDARD
END:VTIMEZONE
BEGIN:VEVENT
DTSTART;TZID=Europe/Berlin:20241112T180000
DTEND;TZID=Europe/Berlin:20241112T190000
DTSTAMP:20260424T010320
CREATED:20241105T090112Z
LAST-MODIFIED:20241105T090112Z
UID:370-1731434400-1731438000@ev-pottschach.at
SUMMARY:Informationsabend Kreuzungssituation Mittelschule und Volksschule Pottschach
DESCRIPTION:Die Kreuzung bei der Unterführung vor der Mittelschule und Volksschule Pottschach ist aufgrund fehlender Schutzwege als Schulweg nicht geeignet. Einige Eltern haben sich daher schon mehrfach beschwert\, geändert hat sich leider nichts. \nDer Elternverein der Volksschule konnte daher für \nDienstag 12. November um 18 Uhr in der Volksschule Pottschach \nEinen Informationsabend mit Bürgermeister Mag. Christian Samwald\, Schulstadtrat Michael Riedl\, Kindergartenstadträtin Jeannine Schmid und Bauamtsleier Ing. Michael Schechl organisieren. \nEs werden die geplanten Projektplanung betreffend Fußgängerübergang vorgestellt und alle Eltern haben die Möglichkeit sich mit den Verantwortlichen auszutauschen. \nBitte um zahlreiches Erscheinen\, nur gemeinsam können wir eine Lösung erwirken. \nHarald Weiss\,\nObmann Elternverein VS Pottschach
URL:https://ev-pottschach.at/event/informationsabend-kreuzungssituation-mittelschule-und-volksschule-pottschach/
LOCATION:Volksschule Pottschach\, Franz-Samwald-Straße 27\, Ternitz\, 2630\, Österreich
END:VEVENT
END:VCALENDAR