BEGIN:VCALENDAR
VERSION:2.0
PRODID:-//Elternverein VS Pottschach - ECPv6.15.20//NONSGML v1.0//EN
CALSCALE:GREGORIAN
METHOD:PUBLISH
X-WR-CALNAME:Elternverein VS Pottschach
X-ORIGINAL-URL:https://ev-pottschach.at
X-WR-CALDESC:Veranstaltungen für Elternverein VS Pottschach
REFRESH-INTERVAL;VALUE=DURATION:PT1H
X-Robots-Tag:noindex
X-PUBLISHED-TTL:PT1H
BEGIN:VTIMEZONE
TZID:Europe/Berlin
BEGIN:DAYLIGHT
TZOFFSETFROM:+0100
TZOFFSETTO:+0200
TZNAME:CEST
DTSTART:20250330T010000
END:DAYLIGHT
BEGIN:STANDARD
TZOFFSETFROM:+0200
TZOFFSETTO:+0100
TZNAME:CET
DTSTART:20251026T010000
END:STANDARD
BEGIN:DAYLIGHT
TZOFFSETFROM:+0100
TZOFFSETTO:+0200
TZNAME:CEST
DTSTART:20260329T010000
END:DAYLIGHT
BEGIN:STANDARD
TZOFFSETFROM:+0200
TZOFFSETTO:+0100
TZNAME:CET
DTSTART:20261025T010000
END:STANDARD
BEGIN:DAYLIGHT
TZOFFSETFROM:+0100
TZOFFSETTO:+0200
TZNAME:CEST
DTSTART:20270328T010000
END:DAYLIGHT
BEGIN:STANDARD
TZOFFSETFROM:+0200
TZOFFSETTO:+0100
TZNAME:CET
DTSTART:20271031T010000
END:STANDARD
END:VTIMEZONE
BEGIN:VEVENT
DTSTART;TZID=Europe/Berlin:20260529T113000
DTEND;TZID=Europe/Berlin:20260529T163000
DTSTAMP:20260422T150650
CREATED:20260408T115306Z
LAST-MODIFIED:20260408T115306Z
UID:405-1780054200-1780072200@ev-pottschach.at
SUMMARY:Schulfest 2025/2026
DESCRIPTION:
URL:https://ev-pottschach.at/event/schulfest-2025-2026/
LOCATION:Volksschule Pottschach\, Franz-Samwald-Straße 27\, Ternitz\, 2630\, Österreich
END:VEVENT
END:VCALENDAR